BEGIN:VCALENDAR
VERSION:2.0
PRODID:Events Booking
BEGIN:VEVENT
UID:69e74e55b4b39
SUMMARY:Saturday - July 18th\, 2026 - 2nd Rodeo Performance
DESCRIPTION:Saturday - July 18th\, 2026
 2nd Rodeo Performance - 8:00 p.m.
 
 Tickets for 2nd Rodeo Performance - 18th
LOCATION:6320 North Ohlman Mitchell\, SD
DTSTART:20260719T010000Z
DTEND:20260719T030000Z
DTSTAMP:20260123T162853Z
ORGANIZER;CN=Corn Palace Stampede Rodeo:MAILTO:resourceit2me@gmail.com
GEO:43.769054;-98.047644
X-APPLE-STRUCTURED-LOCATION;VALUE=URI;X-ADDRESS=6320 North Ohlman Mitchell\
 , SD;X-APPLE-RADIUS=72;X-TITLE=Stampede Arena:43.769054;-98.047644
END:VEVENT
END:VCALENDAR